BEGIN:VCALENDAR
VERSION:2.0
PRODID:-//NADI Kg Darul Belimbing Islam - ECPv6.15.13.1//NONSGML v1.0//EN
CALSCALE:GREGORIAN
METHOD:PUBLISH
X-WR-CALNAME:NADI Kg Darul Belimbing Islam
X-ORIGINAL-URL:https://kgdarulislambelimbing.nadi.my
X-WR-CALDESC:Events for NADI Kg Darul Belimbing Islam
REFRESH-INTERVAL;VALUE=DURATION:PT1H
X-Robots-Tag:noindex
X-PUBLISHED-TTL:PT1H
BEGIN:VTIMEZONE
TZID:Asia/Kuala_Lumpur
BEGIN:STANDARD
TZOFFSETFROM:+0800
TZOFFSETTO:+0800
TZNAME:+08
DTSTART:20250101T000000
END:STANDARD
END:VTIMEZONE
BEGIN:VEVENT
DTSTART;TZID=Asia/Kuala_Lumpur:20260420T090000
DTEND;TZID=Asia/Kuala_Lumpur:20260425T163000
DTSTAMP:20260423T210325
CREATED:20260422T085247Z
LAST-MODIFIED:20260422T085247Z
UID:1915-1776675600-1777134600@kgdarulislambelimbing.nadi.my
SUMMARY:ENGLISH PROFICIENCY 2026
DESCRIPTION:Khas untuk pelajar Guidance Tuition! \nNak mantapkan penguasaan grammar Bahasa Inggeris anda? Minggu ini kita akan fokus kepada salah satu asas tatabahasa yang paling penting. Jangan lepaskan peluang untuk belajar secara santai tapi berkesan! \n🗓️ Tarikh: 20-25 April 2026\n📝 Topik: Lesson 29 – Connectors \nKenapa modul ini best?\n✅ Pembelajaran Secara Kendiri: Anda boleh belajar mengikut kelajuan sendiri tanpa tekanan.\n✅ Masa Fleksibel: Waktu pembelajaran adalah mengikut keselesaan anda sendiri.\n✅ Pemantauan Prestasi: Pencapaian anda akan dipantau melalui rekod kemajuan bulanan untuk pastikan anda sentiasa on track.\n✅ Akses Penuh: Nikmati akses kepada semua elemen pembelajaran yang disediakan.
URL:https://kgdarulislambelimbing.nadi.my/event/english-proficiency-2026/
CATEGORIES:DILEA
END:VEVENT
BEGIN:VEVENT
DTSTART;TZID=Asia/Kuala_Lumpur:20260425T143000
DTEND;TZID=Asia/Kuala_Lumpur:20260425T153000
DTSTAMP:20260423T210325
CREATED:20260422T070832Z
LAST-MODIFIED:20260422T070832Z
UID:1912-1777127400-1777131000@kgdarulislambelimbing.nadi.my
SUMMARY:WEBINAR BIJAK BERBICARA SIRI 1
DESCRIPTION:Jom sertai Webinar Bijak Berbicara Siri 1 yang akan membimbing anda memahami dan menyampaikan sajak dengan lebih yakin\, jelas dan penuh ekspresi! 🎤✨ \n🗓️ Tarikh: 25 April 2026 (Sabtu)\n🕞 Masa: 2.30 PM – 3.30 PM\n📍 Tempat: Dalam Talian\n👥 Sasaran: Terbuka kepada semua lapisan umur (tiada had umur) \n🎯 Topik:\nLatihan Sajak \nSesi ini akan memberi fokus kepada latihan praktikal penyampaian sajak\, termasuk teknik sebutan\, intonasi suara\, ekspresi dan penghayatan bagi membantu anda tampil lebih yakin! 💡📖
URL:https://kgdarulislambelimbing.nadi.my/event/webinar-bijak-berbicara-siri-1/
CATEGORIES:DILEA
END:VEVENT
END:VCALENDAR